BEGIN:VCALENDAR
VERSION:2.0
PRODID:-//wp-events-plugin.com//7.2.3.1//EN
TZID:Europe/Berlin
X-WR-TIMEZONE:Europe/Berlin
BEGIN:VEVENT
UID:75@ttc-tueschnitz.de
DTSTART;TZID=Europe/Berlin:20211009T130000
DTEND;TZID=Europe/Berlin:20211009T200000
DTSTAMP:20210827T083235Z
URL:https://www.ttc-tueschnitz.de/events/wanderung
SUMMARY:Wanderung
DESCRIPTION:
LOCATION:Mehrzweckhaus Tüschnitz\, Schloßring 17\, Tüschnitz\, Bayern\, 
 96328\, Deutschland
GEO:50.199774;11.259949
X-APPLE-STRUCTURED-LOCATION;VALUE=URI;X-ADDRESS=Schloßring 17\, Tüschnitz
 \, Bayern\, 96328\, Deutschland;X-APPLE-RADIUS=100;X-TITLE=Mehrzweckhaus T
 üschnitz:geo:50.199774,11.259949
END:VEVENT
BEGIN:VTIMEZONE
TZID:Europe/Berlin
X-LIC-LOCATION:Europe/Berlin
BEGIN:DAYLIGHT
DTSTART:20210328T030000
TZOFFSETFROM:+0100
TZOFFSETTO:+0200
TZNAME:CEST
END:DAYLIGHT
END:VTIMEZONE
END:VCALENDAR