BEGIN:VCALENDAR
VERSION:2.0
PRODID:-//wp-events-plugin.com//7.2.3.1//EN
TZID:Europe/Berlin
X-WR-TIMEZONE:Europe/Berlin
BEGIN:VEVENT
UID:80@ttc-tueschnitz.de
DTSTART;TZID=Europe/Berlin:20220514T090000
DTEND;TZID=Europe/Berlin:20220514T140000
DTSTAMP:20220421T095617Z
URL:https://www.ttc-tueschnitz.de/events/umweltaktion-tueschnitz-raeumt-au
 f
SUMMARY:Umweltaktion "Tüschnitz räumt auf" (GTV)
DESCRIPTION:Hurra - wir die Gemeinschaft Tüschnitzer Vereine - machen wied
 er eine Umweltaktion!\n\nDrei Fliegen mit einer Klappe: Macht einen Spazie
 rgang und gleichzeitig unsere Umwelt sauber - und am Ende noch ein Stück 
 Geselligkeit mit einer Brotzeit. \n\nBeginn und Treffpunkt: 9.00 Uhr am T
 üschnitzer Mehrzweckhaus
LOCATION:Dorfplatz Tüschnitz\, Schlossring\, Tüschnitz\, 96328\, Deutschl
 and
X-APPLE-STRUCTURED-LOCATION;VALUE=URI;X-ADDRESS=Schlossring\, Tüschnitz\, 
 96328\, Deutschland;X-APPLE-RADIUS=100;X-TITLE=Dorfplatz Tüschnitz:geo:0,
 0
END:VEVENT
BEGIN:VTIMEZONE
TZID:Europe/Berlin
X-LIC-LOCATION:Europe/Berlin
BEGIN:DAYLIGHT
DTSTART:20220327T030000
TZOFFSETFROM:+0100
TZOFFSETTO:+0200
TZNAME:CEST
END:DAYLIGHT
END:VTIMEZONE
END:VCALENDAR