BEGIN:VCALENDAR
VERSION:2.0
PRODID:-//wp-events-plugin.com//7.2.3.1//EN
TZID:Europe/Berlin
X-WR-TIMEZONE:Europe/Berlin
BEGIN:VEVENT
UID:77@ttc-tueschnitz.de
DTSTART;TZID=Europe/Berlin:20210919T130000
DTEND;TZID=Europe/Berlin:20210919T180000
DTSTAMP:20210901T150258Z
URL:https://www.ttc-tueschnitz.de/events/traditionelles-tueschnitzer-boule
 -turnier
SUMMARY:Traditionelles Tüschnitzer Boule-Turnier
DESCRIPTION:Meldungen bitte an karl-heinz.sladek@gmx.de\n\n
LOCATION:Dorfplatz Tüschnitz\, Schlossring\, Tüschnitz\, 96328\, Deutschl
 and
X-APPLE-STRUCTURED-LOCATION;VALUE=URI;X-ADDRESS=Schlossring\, Tüschnitz\, 
 96328\, Deutschland;X-APPLE-RADIUS=100;X-TITLE=Dorfplatz Tüschnitz:geo:0,
 0
END:VEVENT
BEGIN:VTIMEZONE
TZID:Europe/Berlin
X-LIC-LOCATION:Europe/Berlin
BEGIN:DAYLIGHT
DTSTART:20210328T030000
TZOFFSETFROM:+0100
TZOFFSETTO:+0200
TZNAME:CEST
END:DAYLIGHT
END:VTIMEZONE
END:VCALENDAR