BEGIN:VCALENDAR
VERSION:2.0
PRODID:-//wp-events-plugin.com//7.2.3.1//EN
TZID:Europe/Berlin
X-WR-TIMEZONE:Europe/Berlin
BEGIN:VEVENT
UID:78@ttc-tueschnitz.de
DTSTART;TZID=Europe/Berlin:20220501T140000
DTEND;TZID=Europe/Berlin:20220501T180000
DTSTAMP:20220421T094802Z
URL:https://www.ttc-tueschnitz.de/events/maibaum-aufstellen-mit-maifeier-g
 tv
SUMMARY:Maibaum aufstellen mit Maifeier (GTV)
DESCRIPTION:Nach nunmehr drei Jahren findet wieder die traditionelle Maifei
 er inkl. Aufstellen des Maibaums durch die FFW am Tüschnitzer Dorfplatz s
 tatt. \nDies ist eine Veranstaltung der Gemeinschaft Tüschnitzer Vereine 
 (GTV)\, an der sich natürlich auch der TTC beteiligt.\n\nWir freuen uns z
 ur Eröffnung der Freiluftsaison 2022 bei wie immer bester Verpflegung auf
  zahlreiche Gäste.
LOCATION:Dorfplatz Tüschnitz\, Schlossring\, Tüschnitz\, 96328\, Deutschl
 and
X-APPLE-STRUCTURED-LOCATION;VALUE=URI;X-ADDRESS=Schlossring\, Tüschnitz\, 
 96328\, Deutschland;X-APPLE-RADIUS=100;X-TITLE=Dorfplatz Tüschnitz:geo:0,
 0
END:VEVENT
BEGIN:VTIMEZONE
TZID:Europe/Berlin
X-LIC-LOCATION:Europe/Berlin
BEGIN:DAYLIGHT
DTSTART:20220327T030000
TZOFFSETFROM:+0100
TZOFFSETTO:+0200
TZNAME:CEST
END:DAYLIGHT
END:VTIMEZONE
END:VCALENDAR