BEGIN:VCALENDAR
VERSION:2.0
PRODID:-//wp-events-plugin.com//7.2.3.1//EN
TZID:Europe/Berlin
X-WR-TIMEZONE:Europe/Berlin
BEGIN:VEVENT
UID:79@ttc-tueschnitz.de
DTSTART;TZID=Europe/Berlin:20220521T180000
DTEND;TZID=Europe/Berlin:20220521T230000
DTSTAMP:20220421T094034Z
URL:https://www.ttc-tueschnitz.de/events/jahreshauptversammlung-7
SUMMARY:Jahreshauptversammlung
DESCRIPTION:Termin:		Samstag\, 21. Mai 2022\nBeginn:		18.00 Uhr\nOrt:		Saal
  Mehrzweckhaus\n\n								Tüschnitz\, 21. April 2022\n\nLiebe TTC-lerinne
 n und TTC-ler\,\n\nNach der pandemischen Zwangspause ergeht hiermit herzli
 che Einladung an alle Mitglieder des TTC 1960 Tüschnitz e.V. zur diesjäh
 rigen ordentlichen Jahreshauptversammlung.\n\nFolgende Tagesordnung ist vo
 rgesehen::\n\n1. 	Begrüßung \n2. 	Totengedenken\n3. 	Protokoll der letzt
 en JHV in Kurzform\n4. 	Rückblick des Vorstands auf die letzten beiden Ja
 hre\n5. 	Bericht des Kassiers und der Kassenprüfer\n6. 	Bericht des Sport
 warts\n7. 	Ausblick 2022\n8. 	Sonstiges\, Wünsche und Anträge\n\nNach de
 r Pause freuen wir uns natürlich ganz sehr auf ein Wiedersehen mit Euch.\
 nBesonders würden wir uns freuen\, wenn wir auch einige unserer passiven 
 Mitglieder begrüßen könnten.\n\nDie Vorstandschaft freut sich auf ein z
 ahlreiches Erscheinen und das damit verbundene Interesse.\n\n\nHerzlichst\
 n\nDie Vorstandschaft\n\ngez. Sladek\n 1. Vors.\n
LOCATION:Mehrzweckhaus Tüschnitz\, Schloßring 17\, Tüschnitz\, Bayern\, 
 96328\, Deutschland
GEO:50.199774;11.259949
X-APPLE-STRUCTURED-LOCATION;VALUE=URI;X-ADDRESS=Schloßring 17\, Tüschnitz
 \, Bayern\, 96328\, Deutschland;X-APPLE-RADIUS=100;X-TITLE=Mehrzweckhaus T
 üschnitz:geo:50.199774,11.259949
END:VEVENT
BEGIN:VTIMEZONE
TZID:Europe/Berlin
X-LIC-LOCATION:Europe/Berlin
BEGIN:DAYLIGHT
DTSTART:20220327T030000
TZOFFSETFROM:+0100
TZOFFSETTO:+0200
TZNAME:CEST
END:DAYLIGHT
END:VTIMEZONE
END:VCALENDAR